BEGIN:VCALENDAR
VERSION:2.0
PRODID:-//Seniorweb-Alkmaar - ECPv6.15.20//NONSGML v1.0//EN
CALSCALE:GREGORIAN
METHOD:PUBLISH
X-WR-CALNAME:Seniorweb-Alkmaar
X-ORIGINAL-URL:https://www.seniorweb-alkmaar.nl
X-WR-CALDESC:Evenementen voor Seniorweb-Alkmaar
REFRESH-INTERVAL;VALUE=DURATION:PT1H
X-Robots-Tag:noindex
X-PUBLISHED-TTL:PT1H
BEGIN:VTIMEZONE
TZID:Europe/Amsterdam
BEGIN:DAYLIGHT
TZOFFSETFROM:+0100
TZOFFSETTO:+0200
TZNAME:CEST
DTSTART:20250330T010000
END:DAYLIGHT
BEGIN:STANDARD
TZOFFSETFROM:+0200
TZOFFSETTO:+0100
TZNAME:CET
DTSTART:20251026T010000
END:STANDARD
BEGIN:DAYLIGHT
TZOFFSETFROM:+0100
TZOFFSETTO:+0200
TZNAME:CEST
DTSTART:20260329T010000
END:DAYLIGHT
BEGIN:STANDARD
TZOFFSETFROM:+0200
TZOFFSETTO:+0100
TZNAME:CET
DTSTART:20261025T010000
END:STANDARD
BEGIN:DAYLIGHT
TZOFFSETFROM:+0100
TZOFFSETTO:+0200
TZNAME:CEST
DTSTART:20270328T010000
END:DAYLIGHT
BEGIN:STANDARD
TZOFFSETFROM:+0200
TZOFFSETTO:+0100
TZNAME:CET
DTSTART:20271031T010000
END:STANDARD
END:VTIMEZONE
BEGIN:VEVENT
DTSTART;TZID=Europe/Amsterdam:20260202T100000
DTEND;TZID=Europe/Amsterdam:20260202T120000
DTSTAMP:20260421T135937
CREATED:20250706T144902Z
LAST-MODIFIED:20251205T133124Z
UID:816-1770026400-1770033600@www.seniorweb-alkmaar.nl
SUMMARY:Basiscursus Mac OS
DESCRIPTION:De Basiscursus Mac OS start op maandag 2 februari van 10.00 uur tot 12.00 uur in Mare Nostrum.\n\nDaarna zijn er  vijf volgende lessen eveneens om maandag van 14.00 tot 16.00 uur\, dus op 9\, 16\, 25 februari en 2 en 9 maart.\nVoor 6 middagen betaalt u €75. Mocht dit bezwaarlijk zijn voor U\, neem dan contact op met secretaris@seniorweb-alkmaar.nl \nKlik op meer informatie over deze cursus om meer te weten te komen. \nU kunt zich opgeven door dit formulier in te vullen. \n 
URL:https://www.seniorweb-alkmaar.nl/aktiviteit/basiscursus-mac-os/
LOCATION:Mare Nostrum\, Arubastraat 2\, Alkmaar\, 1825 PV\, Netherlands
CATEGORIES:cursus
ATTACH;FMTTYPE=image/png:https://www.seniorweb-alkmaar.nl/wp-content/uploads/2025/07/mac-os-logo-6724894_1280-e1751817096615.png
END:VEVENT
BEGIN:VEVENT
DTSTART;TZID=Europe/Amsterdam:20260112T140000
DTEND;TZID=Europe/Amsterdam:20260112T160000
DTSTAMP:20260421T135937
CREATED:20250706T141957Z
LAST-MODIFIED:20251015T173732Z
UID:805-1768226400-1768233600@www.seniorweb-alkmaar.nl
SUMMARY:Start Basiscursus Windows 11
DESCRIPTION:De Basiscursus Windows 11 start op maandag 12 januari om 14.00 uur in Mare Nostrum.\nDocent is Joep Hocker.\nDe vijf weken daarna zijn er volgende lessen eveneens op maandag van14.00 tot 16.00 uur. Dus op 19\, 26 januari en 2\, 9 en 16 februari.\nVoor 6 ochtenden betaalt u €75. Mocht dit bezwaarlijk zijn voor U\, neem dan contact op met secretaris@seniorweb-alkmaar.nl \nKlik op meer informatie over deze cursus om meer te weten te komen. \nU kunt zich opgeven door dit formulier in te vullen.
URL:https://www.seniorweb-alkmaar.nl/aktiviteit/start-basiscursus-windows-11/
LOCATION:Mare Nostrum\, Arubastraat 2\, Alkmaar\, 1825 PV\, Netherlands
CATEGORIES:cursus
ATTACH;FMTTYPE=image/jpeg:https://www.seniorweb-alkmaar.nl/wp-content/uploads/2023/08/Windows11.jpg
END:VEVENT
END:VCALENDAR