BEGIN:VCALENDAR
VERSION:2.0
PRODID:-//Seniorweb-Alkmaar - ECPv6.15.20//NONSGML v1.0//EN
CALSCALE:GREGORIAN
METHOD:PUBLISH
X-WR-CALNAME:Seniorweb-Alkmaar
X-ORIGINAL-URL:https://www.seniorweb-alkmaar.nl
X-WR-CALDESC:Evenementen voor Seniorweb-Alkmaar
REFRESH-INTERVAL;VALUE=DURATION:PT1H
X-Robots-Tag:noindex
X-PUBLISHED-TTL:PT1H
BEGIN:VTIMEZONE
TZID:Europe/Amsterdam
BEGIN:DAYLIGHT
TZOFFSETFROM:+0100
TZOFFSETTO:+0200
TZNAME:CEST
DTSTART:20240331T010000
END:DAYLIGHT
BEGIN:STANDARD
TZOFFSETFROM:+0200
TZOFFSETTO:+0100
TZNAME:CET
DTSTART:20241027T010000
END:STANDARD
BEGIN:DAYLIGHT
TZOFFSETFROM:+0100
TZOFFSETTO:+0200
TZNAME:CEST
DTSTART:20250330T010000
END:DAYLIGHT
BEGIN:STANDARD
TZOFFSETFROM:+0200
TZOFFSETTO:+0100
TZNAME:CET
DTSTART:20251026T010000
END:STANDARD
BEGIN:DAYLIGHT
TZOFFSETFROM:+0100
TZOFFSETTO:+0200
TZNAME:CEST
DTSTART:20260329T010000
END:DAYLIGHT
BEGIN:STANDARD
TZOFFSETFROM:+0200
TZOFFSETTO:+0100
TZNAME:CET
DTSTART:20261025T010000
END:STANDARD
END:VTIMEZONE
BEGIN:VEVENT
DTSTART;TZID=Europe/Amsterdam:20251112T100000
DTEND;TZID=Europe/Amsterdam:20251112T120000
DTSTAMP:20260421T172132
CREATED:20250706T190818Z
LAST-MODIFIED:20250822T145431Z
UID:860-1762941600-1762948800@www.seniorweb-alkmaar.nl
SUMMARY:Vervolgcursus Apple Mac OS
DESCRIPTION:De Vervolgcursus Mac OS start op woensdagochtend  12 november 0m 10.00 uur in Mare Nostrum.\nDocent is Baas Louter.\nTwee weken daarna zijn er eveneens op woensdag van 10.00 tot 12.00 uur\, dus op 19  en 26 november\, de vervolglessen.\nVoor 3 ochtenden betaalt u €37\,50. Mocht dit bezwaarlijk zijn voor U\, neem dan contact op met secretaris@seniorweb-alkmaar.nl \nKlik op meer informatie over deze cursus om meer te weten te komen. \nU kunt zich opgeven door dit formulier in te vullen.
URL:https://www.seniorweb-alkmaar.nl/aktiviteit/vervolgcursus-apple-mac-os/
LOCATION:Mare Nostrum\, Arubastraat 2\, Alkmaar\, 1825 PV\, Netherlands
CATEGORIES:cursus
ATTACH;FMTTYPE=image/png:https://www.seniorweb-alkmaar.nl/wp-content/uploads/2025/07/mac-os-logo-6724894_1280-e1751817096615.png
END:VEVENT
BEGIN:VEVENT
DTSTART;TZID=Europe/Amsterdam:20251110T100000
DTEND;TZID=Europe/Amsterdam:20251110T120000
DTSTAMP:20260421T172132
CREATED:20250706T185610Z
LAST-MODIFIED:20251016T200436Z
UID:857-1762768800-1762776000@www.seniorweb-alkmaar.nl
SUMMARY:Basiscursus mappen en bestanden Windows (organiseer uw computer)
DESCRIPTION:De Basiscursus Mappen en Bestanden\, eigenlijk hoe organiseer ik mijn computer zodat ik later gemakkelijk mijn opgeslagen bestanden kan terugvinden\, start op maandag 10 november om 10.00 uur in Mare Nostrum.\n\nDe drie daaropvolgende lessen zijn eveneens op maandag van 10 tot 12\, dus op 17\, 24 november en 1 december.\nVoor 4 ochtenden betaalt u €50. Mocht dit bezwaarlijk zijn voor U\, neem dan contact op met secretaris@seniorweb-alkmaar.nl \nKlik op meer informatie over deze cursus om meer te weten te komen. \nU kunt zich opgeven door dit formulier in te vullen.
URL:https://www.seniorweb-alkmaar.nl/aktiviteit/basiscursus-mappen-en-bestanden/
LOCATION:Mare Nostrum\, Arubastraat 2\, Alkmaar\, 1825 PV\, Netherlands
CATEGORIES:cursus
ATTACH;FMTTYPE=image/png:https://www.seniorweb-alkmaar.nl/wp-content/uploads/2025/07/mappen-verplaatsen-in-windows-10.png
END:VEVENT
BEGIN:VEVENT
DTSTART;TZID=Europe/Amsterdam:20251103T140000
DTEND;TZID=Europe/Amsterdam:20251103T160000
DTSTAMP:20260421T172132
CREATED:20250706T184428Z
LAST-MODIFIED:20250822T145202Z
UID:852-1762178400-1762185600@www.seniorweb-alkmaar.nl
SUMMARY:Basiscursus iPhone iPad
DESCRIPTION:De Basiscursus iPhone/iPad start op maandag 3 november om 14.00 uur in Mare Nostrum.\nDocent is Hans Andela.\nDaarna zijn de drie vevolglessen eveneens op maandag van 14.00 tot 16.00 dus op 10\, 17 en 24 november\nVoor 4 ochtenden betaalt u €50. Mocht dit bezwaarlijk zijn voor U\, neem dan contact op met secretaris@seniorweb-alkmaar.nl \nKlik op meer informatie over deze cursus om meer te weten te komen. \nU kunt zich opgeven door dit formulier in te vullen.
URL:https://www.seniorweb-alkmaar.nl/aktiviteit/basiscursus-iphone-ipad/
LOCATION:Mare Nostrum\, Arubastraat 2\, Alkmaar\, 1825 PV\, Netherlands
CATEGORIES:cursus
ATTACH;FMTTYPE=image/png:https://www.seniorweb-alkmaar.nl/wp-content/uploads/2025/07/iphone-logo-png_seeklogo-73301.png
END:VEVENT
BEGIN:VEVENT
DTSTART;TZID=Europe/Amsterdam:20251029T140000
DTEND;TZID=Europe/Amsterdam:20251029T160000
DTSTAMP:20260421T172132
CREATED:20250713T185618Z
LAST-MODIFIED:20250917T160458Z
UID:981-1761746400-1761753600@www.seniorweb-alkmaar.nl
SUMMARY:Workshop Mappen en bestanden MacOs. (Hoe organiseer ik mijn MacOs)
DESCRIPTION:Mappen & bestanden MacOsKosten €12\,50Locatie:  Bibliotheek Kennemerwaard\, Laan van Straatsburg 2\, 1826BZ Alkmaar\n\n\n\n\n\n\n\n\n\naanmelden kan via dit formulier.
URL:https://www.seniorweb-alkmaar.nl/aktiviteit/workshop-mappen-en-bestanden-iphone/
CATEGORIES:Workshop
ATTACH;FMTTYPE=image/png:https://www.seniorweb-alkmaar.nl/wp-content/uploads/2025/07/mappen-verplaatsen-in-windows-10.png
END:VEVENT
BEGIN:VEVENT
DTSTART;TZID=Europe/Amsterdam:20251027T140000
DTEND;TZID=Europe/Amsterdam:20251027T160000
DTSTAMP:20260421T172132
CREATED:20250925T151615Z
LAST-MODIFIED:20251016T152929Z
UID:1185-1761573600-1761580800@www.seniorweb-alkmaar.nl
SUMMARY:Workshop Kunstmatige Intelligentie.
DESCRIPTION:AI\, uw persoonlijke assistent. Wegens succes een extra workshop \n\n\n\nDeze workshop in Wijkcentrum Mare Mostrum\, Arubastraat\, Alkmaar Noord. is helaas volgeboekt. Op 8 december is er wederom deze workshop
URL:https://www.seniorweb-alkmaar.nl/aktiviteit/workshop-kunstmatige-intelligentie-2/
CATEGORIES:Workshop
ATTACH;FMTTYPE=image/jpeg:https://www.seniorweb-alkmaar.nl/wp-content/uploads/2025/07/AIlogo.jpg
END:VEVENT
BEGIN:VEVENT
DTSTART;TZID=Europe/Amsterdam:20251022T140000
DTEND;TZID=Europe/Amsterdam:20251022T160000
DTSTAMP:20260421T172132
CREATED:20250725T135315Z
LAST-MODIFIED:20250822T150506Z
UID:1059-1761141600-1761148800@www.seniorweb-alkmaar.nl
SUMMARY:Thema online betalen/verkopen.
DESCRIPTION:In deze themamiddag komen de volgende onderwerpen aan bod: \n  \n\nVeiligheidsrisico’s en de mogelijkheden om uzelf daartegen te beschermen.\nVeilig inrichten van computer\, tablet en smartphone.\nInternetverbindingen thuis en onderweg.\nVeiligheid en privacy in internetbrowsers.\nBewust surfen op internet.\nOnline accounts en beveiligingsmogelijkheden.\n\nAanmelden kan via dit formulier.
URL:https://www.seniorweb-alkmaar.nl/aktiviteit/thema-online-betalen-verkopen/
ATTACH;FMTTYPE=image/jpeg:https://www.seniorweb-alkmaar.nl/wp-content/uploads/2025/07/online-betalen-e1759682736678.jpg
END:VEVENT
BEGIN:VEVENT
DTSTART;TZID=Europe/Amsterdam:20251016T133000
DTEND;TZID=Europe/Amsterdam:20251016T163000
DTSTAMP:20260421T172132
CREATED:20250917T152724Z
LAST-MODIFIED:20250930T082034Z
UID:1163-1760621400-1760632200@www.seniorweb-alkmaar.nl
SUMMARY:Echt of nep
DESCRIPTION:  \n\nGrote Kerk Alkmaar. \n\nAnita Witzier zal de host zijn op16 oktober. \n\nDit is het (voorlopige) programma: \n\n13.30 uur | Ontvangst14.00 uur | Bijeenkomst \n\n\nPlenair interactief programma Echt tot Nep\n\n\n\nVerschillende onderwerpen waaronder slachtofferverhaal (nepagent?)\n\n\n\nPaneldiscussie inclusief vragen uit de zaal\n\n\n15.30 uur | Aanwezige organisaties staan aan de zijkant van de zaal met een statafel voor meer info \n\nPolitie\, Rabobank\, Bibliotheek\, Seniorweb \n\n\nBij wie kan ik voor wat terecht?\n\n\n16.30 uur  | Einde  \nJe kunt je aanmelden  door op deze link te drukken \n\n  \n\n 
URL:https://www.seniorweb-alkmaar.nl/aktiviteit/echt-of-nep/
CATEGORIES:Thema
ATTACH;FMTTYPE=image/jpeg:https://www.seniorweb-alkmaar.nl/wp-content/uploads/2025/09/echt-of-nep-e1759682643573.jpg
END:VEVENT
BEGIN:VEVENT
DTSTART;TZID=Europe/Amsterdam:20251001T100000
DTEND;TZID=Europe/Amsterdam:20251001T120000
DTSTAMP:20260421T172132
CREATED:20250706T163729Z
LAST-MODIFIED:20250822T145038Z
UID:843-1759312800-1759320000@www.seniorweb-alkmaar.nl
SUMMARY:Basiscursus smartphone Android
DESCRIPTION:De Basiscursus smartphone Android start op woensdag 1 oktober om 10.00 uur in Mare Nostrum.\nDocent is Marcel Cornelissen.\nDe drie vervolglessen zijn eveneens op woensdag van 10.00 tot 12.00 Dus op 8\, 15 en 22 oktober.\nVoor 4 ochtenden betaalt u €50. Mocht dit bezwaarlijk zijn voor U\, neem dan contact op met secretaris@seniorweb-alkmaar.nl \nKlik op meer informatie over deze cursus om meer te weten te komen. \nU kunt zich opgeven door dit formulier in te vullen.
URL:https://www.seniorweb-alkmaar.nl/aktiviteit/basiscursus-smartphone-android/
LOCATION:Mare Nostrum\, Arubastraat 2\, Alkmaar\, 1825 PV\, Netherlands
CATEGORIES:cursus
ATTACH;FMTTYPE=image/png:https://www.seniorweb-alkmaar.nl/wp-content/uploads/2025/07/256px-Android_robot.svg.png
END:VEVENT
BEGIN:VEVENT
DTSTART;TZID=Europe/Amsterdam:20250925T140000
DTEND;TZID=Europe/Amsterdam:20250925T160000
DTSTAMP:20260421T172132
CREATED:20250823T175938Z
LAST-MODIFIED:20250925T151231Z
UID:1146-1758808800-1758816000@www.seniorweb-alkmaar.nl
SUMMARY:Workshop Kunstmatige Intelligentie
DESCRIPTION:AI uw nieuwe assistent\,  \n\n\n\nAaanmelden kan via dit formulier
URL:https://www.seniorweb-alkmaar.nl/aktiviteit/workshop-kunstmatige-intelligentie/
ATTACH;FMTTYPE=image/jpeg:https://www.seniorweb-alkmaar.nl/wp-content/uploads/2025/07/AIlogo.jpg
END:VEVENT
BEGIN:VEVENT
DTSTART;TZID=Europe/Amsterdam:20250924T140000
DTEND;TZID=Europe/Amsterdam:20250924T160000
DTSTAMP:20260421T172132
CREATED:20250901T175901Z
LAST-MODIFIED:20250901T180609Z
UID:1156-1758722400-1758729600@www.seniorweb-alkmaar.nl
SUMMARY:Workshop Foto's maken en verbeteren Android
DESCRIPTION:De camera’s op smartphones worden steeds beter en geavanceerder.In het eerste deel van de workshop worden de mogelijkheden van de camera’s op de smartphone behandeld. Ook wordt er bekeken waar de foto’s worden opgeslagen en hoe een backup gemaakt kan worden. \n\n\n\nIn het tweede deel gaat u onder andere foto’s bewerken\, slim zoeken\, albums maken en foto’s overzetten naar de computer. \n\n\n\nKosten €12\,50 \n\n\n\nLocatie:  Bibliotheek Kennemerwaard\, Laan van Straatsburg 2\, 1826BZ Alkmaar. \n\n\n\nAanmelden kan via dit formulier.
URL:https://www.seniorweb-alkmaar.nl/aktiviteit/fotos-maken-en-verbeteren-android/
END:VEVENT
BEGIN:VEVENT
DTSTART;TZID=Europe/Amsterdam:20250816T110000
DTEND;TZID=Europe/Amsterdam:20250816T150000
DTSTAMP:20260421T172132
CREATED:20250708T130302Z
LAST-MODIFIED:20250713T130250Z
UID:887-1755342000-1755356400@www.seniorweb-alkmaar.nl
SUMMARY:Open dag
DESCRIPTION:Noteer in uw agendaZaterdag 16 augustus van 11.00 tot 15.00 uurBibliotheek Alkmaar Centraal. \n\n\n\nHet cursusseizoen 25-26 vanSeniorWeb Alkmaarbegint weer in september \n\n\n\nDaarom houdt Seniorweb Alkmaar een open dag.Veel informatie over cursussen\, thema’sen workshops van september 25 t/m april 26
URL:https://www.seniorweb-alkmaar.nl/aktiviteit/open-dag/
CATEGORIES:Thema
ATTACH;FMTTYPE=image/png:https://www.seniorweb-alkmaar.nl/wp-content/uploads/2023/08/Logo-10.png
END:VEVENT
END:VCALENDAR